BEGIN:VCALENDAR
VERSION:2.0
PRODID:-//Chesney for Illinois - ECPv6.15.11//NONSGML v1.0//EN
CALSCALE:GREGORIAN
METHOD:PUBLISH
X-ORIGINAL-URL:https://chesneyforillinois.com
X-WR-CALDESC:Events for Chesney for Illinois
REFRESH-INTERVAL;VALUE=DURATION:PT1H
X-Robots-Tag:noindex
X-PUBLISHED-TTL:PT1H
BEGIN:VTIMEZONE
TZID:America/Chicago
BEGIN:DAYLIGHT
TZOFFSETFROM:-0600
TZOFFSETTO:-0500
TZNAME:CDT
DTSTART:20230312T080000
END:DAYLIGHT
BEGIN:STANDARD
TZOFFSETFROM:-0500
TZOFFSETTO:-0600
TZNAME:CST
DTSTART:20231105T070000
END:STANDARD
BEGIN:DAYLIGHT
TZOFFSETFROM:-0600
TZOFFSETTO:-0500
TZNAME:CDT
DTSTART:20240310T080000
END:DAYLIGHT
BEGIN:STANDARD
TZOFFSETFROM:-0500
TZOFFSETTO:-0600
TZNAME:CST
DTSTART:20241103T070000
END:STANDARD
BEGIN:DAYLIGHT
TZOFFSETFROM:-0600
TZOFFSETTO:-0500
TZNAME:CDT
DTSTART:20250309T080000
END:DAYLIGHT
BEGIN:STANDARD
TZOFFSETFROM:-0500
TZOFFSETTO:-0600
TZNAME:CST
DTSTART:20251102T070000
END:STANDARD
BEGIN:DAYLIGHT
TZOFFSETFROM:-0600
TZOFFSETTO:-0500
TZNAME:CDT
DTSTART:20260308T080000
END:DAYLIGHT
BEGIN:STANDARD
TZOFFSETFROM:-0500
TZOFFSETTO:-0600
TZNAME:CST
DTSTART:20261101T070000
END:STANDARD
BEGIN:DAYLIGHT
TZOFFSETFROM:-0600
TZOFFSETTO:-0500
TZNAME:CDT
DTSTART:20270314T080000
END:DAYLIGHT
BEGIN:STANDARD
TZOFFSETFROM:-0500
TZOFFSETTO:-0600
TZNAME:CST
DTSTART:20271107T070000
END:STANDARD
END:VTIMEZONE
BEGIN:VTIMEZONE
TZID:UTC
BEGIN:STANDARD
TZOFFSETFROM:+0000
TZOFFSETTO:+0000
TZNAME:UTC
DTSTART:20210101T000000
END:STANDARD
END:VTIMEZONE
BEGIN:VEVENT
DTSTART;TZID=America/Chicago:20260331T080000
DTEND;TZID=America/Chicago:20260331T100000
DTSTAMP:20260424T003503
CREATED:20260223T184457Z
LAST-MODIFIED:20260223T184638Z
UID:3830-1774944000-1774951200@chesneyforillinois.com
SUMMARY:Legislative Breakfast with STATE SENATOR ANDREW CHESNEY and Guest Speaker COLLIN MOSELEY
DESCRIPTION:2026 Legislative Breakfast with STATE SENATOR ANDREW CHESNEY and Guest Speaker COLLIN MOSELEY STATE DIRECTOR\, ILLINOIS STATE FREEDOM CAUCUS\n			\n				Sign Up Online\n			\n				\n				\n				\n				\n				Tuesday March 31st8:00 am Breakfast8:30 am UpdateStewart Centre West2900 West Pearl City Road | Freeport\, IL \n$40 per person \nSPONSORSHIPS AVAILABLE$2\,500 (Includes 10 Tickets) $1\,000 (Includes 8 Tickets)$500 (Includes 6 Tickets)$250 (Includes 4 Tickets)$100(Includes 2 Tickets)*All sponsorships include recognition \nPLEASE MAKE CHECKS PAYABLE TO: Chesney for Illinois | PO Box 633 | Freeport\, IL 61032 \nFor more questions or to RSVP\, please contact Sara or Morgan: rsvp@thenewberggroup.org or 815.513.5215 \n			\n				Sign Up Online
URL:https://chesneyforillinois.com/event/legislative-breakfast-with-state-senator-andrew-chesney-and-guest-speaker-collin-moseley/
LOCATION:Stewart Centre West\, 2900 West Pearl City Road\, Freeport\, Illinois
ATTACH;FMTTYPE=image/jpeg:https://chesneyforillinois.com/wp-content/uploads/2026/02/260331-ACHE-Leg-Breakfast.jpg
END:VEVENT
BEGIN:VEVENT
DTSTART;TZID=America/Chicago:20251113T170000
DTEND;TZID=America/Chicago:20251113T190000
DTSTAMP:20260424T003503
CREATED:20251022T182300Z
LAST-MODIFIED:20251022T182351Z
UID:3817-1763053200-1763060400@chesneyforillinois.com
SUMMARY:Red\, White & Brews with Andrew Chesney
DESCRIPTION:Join us at Red\, White & Brews with Andrew Chesney\n			\n				Sign Up Online\n			\n				\n				\n				\n				\n				Thursday\, November 13\, 2025Time: 5:00 – 7:00 p.m.Lena Brewing Company9426 W Wagner Rd | Lena\, IL \n$50 per person \nSPONSORSHIPS AVAILABLE$5\,000 Liberty Sponsor(10 tickets)$2\,500 Honor Sponsor (8 tickets)$1\,000 Freedom Sponsor (6 tickets)$500 Glory Sponsor (4 tickets)$250 Unity Sponsor (2 tickets) *All sponsorships include tickets & recognition  \nPLEASE MAKE CHECKS PAYABLE TO: Chesney for Illinois | PO Box 633 | Freeport\, IL 61032 \nFor more questions or to RSVP\, please contact: sara@thenewberggroup.org or 815.513.5215 \n			\n				Sign Up Online
URL:https://chesneyforillinois.com/event/red-white-brews-with-andrew-chesney/
LOCATION:Lena Brewing Company\, 9426 W Wagner Rd\, Lena\, IL\, United States
ATTACH;FMTTYPE=image/jpeg:https://chesneyforillinois.com/wp-content/uploads/2025/10/Screenshot_2025-10-06_at_9.53.19-AM.jpg
END:VEVENT
BEGIN:VEVENT
DTSTART;TZID=America/Chicago:20250925T170000
DTEND;TZID=America/Chicago:20250925T190000
DTSTAMP:20260424T003503
CREATED:20250902T154124Z
LAST-MODIFIED:20250902T154126Z
UID:3804-1758819600-1758826800@chesneyforillinois.com
SUMMARY:Galena Fundraiser - Blaum Brothers Distilling Co.
DESCRIPTION:Hon. Chris Allendorf & Hon. Mike Dittmarinvite you to join ANDREW CHESNEY For an Evening atBlaum Brothers Distilling Co.\n			\n				Sign Up Online\n			\n				\n				\n				\n				\n				Thursday\, September 25th5:00-7:00 p.m.Blaum Brothers Distilling Co.9380 W US Highway 20 | Galena\, IL 61036 \n$50 PER PERSON \nSPONSORSHIPS AVAILABLE$2\,500 Event Sponsor (8 tickets)$1\,000 Gold Sponsor (6 tickets)$500 Silver Sponsor (4 tickets)$250 Bronze Sponsor (2 tickets)*all sponsors include recognition and tickets \nHOST COMMITTEEHon. Chris AllendorfHon. Mike DittmarBob DittmarHon. Melisa HammerHon. Justina Hermann – RunkleKlaus KretschmerHon. Kirk & Kelly RaabRobert SchlichtingRet. Sheriff Kevin & Julie TurnerMatt & Darcy Wild \nPLEASE MAKE CHECKS PAYABLE TO: Chesney for Illinois | PO Box 633 | Freeport\, IL 61032 \nFor more questions or to RSVP\, please contact: sara@thenewberggroup.org or 815.513.5215 \n			\n				Sign Up Online
URL:https://chesneyforillinois.com/event/galena-fundraiser-blaum-brothers-distilling-co/
LOCATION:Blaum Brothers Distilling Co.\, 9380 W US Highway 20\, Galena\, IL
ATTACH;FMTTYPE=image/jpeg:https://chesneyforillinois.com/wp-content/uploads/2025/09/250925-ACHE-Blaum-Brothers.jpg
END:VEVENT
BEGIN:VEVENT
DTSTART;TZID=America/Chicago:20250617T110000
DTEND;TZID=America/Chicago:20250617T170000
DTSTAMP:20260424T003503
CREATED:20250509T144453Z
LAST-MODIFIED:20250509T144905Z
UID:3780-1750158000-1750179600@chesneyforillinois.com
SUMMARY:Golf Outing
DESCRIPTION:Join Senator Chesney for his 3rd Annual Golf Outing\n			\n				Sign Up Online\n			\n				\n				\n				\n				\n				THE FREEPORT CLUB • 1614 Park Blvd | Freeport\, ILTUESDAY\, JUNE 17TH\, 202511:00am – Registration • 12:00pm – Shotgun StartFood Truck by Rapped with Smoke BBQ \nBIRDIE SPONSOR*$5\,000LUNCH SPONSOR*$2\,500HOLE IN ONE SPONSOR*$1\,500RECEPTION SPONSOR*$1\,000HOLE SPONSOR:$150*Sponsorships include foursome for golf\, lunch\, reception\, event recognition & signage. \nTICKET PRICES:INDIVIDUAL: $175FOURSOME TICKETS: $700 \nPLEASE MAKE CHECKS PAYABLE TO:Chesney for Illinois | PO Box 633 | Freeport\, IL 61032 \nFOR MORE QUESTIONS OR TO RSVP\, PLEASE CONTACT: sara@thenewberggroup.org or 815.513.5215 \n			\n				Sign Up Online
URL:https://chesneyforillinois.com/event/golf-outing-2/
LOCATION:The Freeport Club\, 1614 Park Blvd\, Freeport\, IL
ATTACH;FMTTYPE=image/jpeg:https://chesneyforillinois.com/wp-content/uploads/2025/05/250617-ACHE-Golf-Outing-crop.jpg
END:VEVENT
BEGIN:VEVENT
DTSTART;TZID=America/Chicago:20250415T080000
DTEND;TZID=America/Chicago:20250415T213000
DTSTAMP:20260424T003503
CREATED:20250313T134521Z
LAST-MODIFIED:20250313T135242Z
UID:3769-1744704000-1744752600@chesneyforillinois.com
SUMMARY:Legislative Breakfast Fundraiser
DESCRIPTION:Legislative Breakfast with ANDREW CHESNEY and guest speaker STATE SENATOR MARK BATINICK\n			\n				Sign Up Online\n			\n				\n				\n				\n				\n				Mark Batinick is a seasoned polling expert and political strategist with decades of experience analyzing voter behavior and election trends. A former Illinois State Representative (2014-2023) and Republican House Floor Leader\, he successfully defended one of the states most competitive districts in 2018 and 2020. A founding member of M3 Consulting\, Mark leverages his deep electoral insight to provide data-driven strategies for candidates and organizations. \nTuesday April 15th8:00 am Breakfast8:30 am UpdateStewart Centre West2900 West Pearl City Road | Freeport\, IL \n$40 PER PERSON \nSPONSORSHIPS AVAILABLE$2\,500 (Includes 8 Tickets)$1\,000 (Includes 6 Tickets)$500 (Includes 4 Tickets)$250 (Includes 2 Tickets)*All sponsorships include recognition \nPLEASE MAKE CHECKS PAYABLE TO: Chesney for Illinois | PO Box 633 | Freeport\, IL 61032 \nFor more questions or to RSVP\, please contact: sara@thenewberggroup.org or 815.513.5215 \n			\n				Sign Up Online
URL:https://chesneyforillinois.com/event/legislative-breakfast-fundraiser/
LOCATION:Stewart Centre West\, 2900 West Pearl City Road\, Freeport\, Illinois
ATTACH;FMTTYPE=image/jpeg:https://chesneyforillinois.com/wp-content/uploads/2025/03/250415-ACHE-Leg-Breakfast-cropped.jpg
END:VEVENT
BEGIN:VEVENT
DTSTART;TZID=America/Chicago:20241009T170000
DTEND;TZID=America/Chicago:20241009T190000
DTSTAMP:20260424T003503
CREATED:20240909T141846Z
LAST-MODIFIED:20240909T141848Z
UID:3740-1728493200-1728500400@chesneyforillinois.com
SUMMARY:Red\, White\, and Brews
DESCRIPTION:Join Senator Chesney for Red\, White\, & Brews\n			\n				Sign Up Online\n			\n				\n				\n				\n				\n				Wednesday\, October 9th\, 2024Generations Brewing\, 1400 S Adams Ave\, Freeport\, IL  \n5:00pm – 7:00pm \n– Sponsorship Opportunities – \nLiberty sponsor –  $5\,000 (10 tickets)Honor sponsor – $2\,500 (8 tickets)Freedom sponsor – $1\,500 (6 tickets)Glory sponsor – $1\,000 (4 tickets)Unity Sponsor – $250 (2 tickets) \nPLEASE MAKE CHECKS PAYABLE TO: Chesney for Illinois PO Box 633 | Freeport\, IL 61032 \nFOR MORE QUESTIONS OR TO RSVP\, PLEASE CONTACT: sara@thenewberggroup.org or 815.513.5215 \n			\n				Sign Up Online
URL:https://chesneyforillinois.com/event/red-white-and-brews/
LOCATION:Generations Brewing\, 1400 S. Adams Ave.\, Freeport\, IL
ATTACH;FMTTYPE=image/jpeg:https://chesneyforillinois.com/wp-content/uploads/2024/09/export.jpg
END:VEVENT
BEGIN:VEVENT
DTSTART;TZID=America/Chicago:20240730T170000
DTEND;TZID=America/Chicago:20240730T190000
DTSTAMP:20260424T003503
CREATED:20240711T134203Z
LAST-MODIFIED:20240711T134528Z
UID:3731-1722358800-1722366000@chesneyforillinois.com
SUMMARY:Join Andrew Chesney for evening at Blaum Brothers Distilling Co.
DESCRIPTION:Hon. Chris Allendorf & Hon. Mike Dittmar invite you to join Andrew Chesney for evening at Blaum Brothers Distilling Co.\n			\n				RSVP Online\n			\n				\n				\n				\n				\n				Blaum Brothers Distilling Co.9380 W US Highway 20Galena\, IL 61036 \nTuesday\, July 30th5:00-7:00 p.m. \n$50 per person \nSponsorships Available$2\,500 Event Sponsor$1\,000 Gold Sponsor$500 Silver Sponsor$250 Bronze Sponsor \nHost CommitteeBob DittmarHon. Melisa HammerHon. Justina Hermann – RunkleSara PeskaHon. Kirk & Kelly RaabHon. Kevin & Julie TurnerMatt & Darcy Wild \nR.S.V.P. to Sara at (815) 513-5215 or sara@thenewberggroup.org \n			\n				RSVP Online
URL:https://chesneyforillinois.com/event/join-andrew-chesney-for-evening-at-blaum-brothers-distilling-co/
LOCATION:Blaum Brothers Distilling Co.\, 9380 W US Highway 20\, Galena\, IL
ATTACH;FMTTYPE=image/jpeg:https://chesneyforillinois.com/wp-content/uploads/2024/07/Join-Andrew-Chesney-for-evening-at-Blaum-Brothers-Distilling-Co.jpg
END:VEVENT
BEGIN:VEVENT
DTSTART;TZID=America/Chicago:20240625T110000
DTEND;TZID=America/Chicago:20240625T170000
DTSTAMP:20260424T003503
CREATED:20240516T150339Z
LAST-MODIFIED:20240516T151318Z
UID:3714-1719313200-1719334800@chesneyforillinois.com
SUMMARY:Join Senator Chesney for his 2nd Annual Golf Outing
DESCRIPTION:Join Senator Chesney for his 2nd Annual Golf Outing.\n			\n				Sign Up Online\n			\n				\n				\n				\n				\n				Tuesday\, June 25th\, 2024The Freeport Club 1614 park Blvd | freeport\, il \n11:00am – registration 12:00pm – shotgun star \nFood truck by Rapped with smoked BBQAwards & appetizers after golf \n– Sponsorship Opportunities – \nBirdie sponsor* $5\,000Lunch sponsor* $2\,500Hole in one sponsor* $1\,500Reception sponsor* $1\,000 \nHole sponsor: $150Ticket prices:individual: $175foursome tickets: $700 \n*sponsorships include foursome for golf\, lunch\, reception\, event recognition & signage. \nPLEASE MAKE CHECKS PAYABLE TO: Chesney for Illinois PO Box 633 | Freeport\, IL 61032 \nFOR MORE QUESTIONS OR TO RSVP\, PLEASE CONTACT: sara@thenewberggroup.org or 815.513.5215 \n			\n				Sign Up Online
URL:https://chesneyforillinois.com/event/golf-outing/
LOCATION:The Freeport Club\, 1614 Park Blvd\, Freeport\, IL
ATTACH;FMTTYPE=image/jpeg:https://chesneyforillinois.com/wp-content/uploads/2024/05/240625-ACHE-Golf-Outing-headerimage.jpg
END:VEVENT
BEGIN:VEVENT
DTSTART;TZID=America/Chicago:20240422T080000
DTEND;TZID=America/Chicago:20240422T213000
DTSTAMP:20260424T003503
CREATED:20240322T130708Z
LAST-MODIFIED:20240322T131208Z
UID:3701-1713772800-1713821400@chesneyforillinois.com
SUMMARY:Legislative Breakfast with State Senator Andrew Chesney
DESCRIPTION:Join us for the 2024 Legislative breakfast with State Senator Andrew Chesney and guest speaker Judge Joe McGraw – Candidate for U.S. Congress – Illinois 17th District \n			\n				Sign Up Online\n			\n				\n				\n				\n				\n				Monday\, April 22nd8:00 am Breakfast8:30 am Update \nStewart Centre West2900 West Pearl City Road | Freeport\, IL \n$40/PER PERSON\nSPONSORSHIPS AVAILABLE\n$2\,500 (Includes 10 Tickets)$1\,000 (Includes 8 Tickets)$500 (Includes 6 Tickets)$250 (Includes 4 Tickets)$100 (Includes 2 Tickets) \n			\n				Sign Up Online
URL:https://chesneyforillinois.com/event/legislative-breakfast-with-state-senator-andrew-chesney/
LOCATION:Stewart Centre West\, 2900 West Pearl City Road\, Freeport\, Illinois
ATTACH;FMTTYPE=image/jpeg:https://chesneyforillinois.com/wp-content/uploads/2024/03/240422-ACHE-Leg-Breakfast.jpg
END:VEVENT
BEGIN:VEVENT
DTSTART;TZID=UTC:20230916T120000
DTEND;TZID=UTC:20230916T150000
DTSTAMP:20260424T003503
CREATED:20231012T001811Z
LAST-MODIFIED:20231012T001811Z
UID:3608-1694865600-1694876400@chesneyforillinois.com
SUMMARY:Senator Chesney’s 6th Annual Hog Roast
DESCRIPTION:Food Truck by Rapped With Smoke\nMeat prepared by:\nRapped With Smoke BBQ
URL:https://chesneyforillinois.com/event/senator-chesneys-6th-annual-hog-roast/
LOCATION:Generations Brewing\, 1400 S. Adams Ave.\, Freeport\, IL
ATTACH;FMTTYPE=image/jpeg:https://chesneyforillinois.com/wp-content/uploads/2023/09/2023-Sponsorship-insert.jpg
END:VEVENT
BEGIN:VEVENT
DTSTART;TZID=UTC:20230825T170000
DTEND;TZID=UTC:20230825T190000
DTSTAMP:20260424T003503
CREATED:20231011T192127Z
LAST-MODIFIED:20231011T192127Z
UID:3610-1692982800-1692990000@chesneyforillinois.com
SUMMARY:An Evening at Blaum Brothers Distilling
DESCRIPTION:
URL:https://chesneyforillinois.com/event/an-evening-at-blaum-brothers-distilling/
LOCATION:Blaum Brothers Distilling Co.\, 9380 W US Highway 20\, Galena\, IL
ATTACH;FMTTYPE=image/jpeg:https://chesneyforillinois.com/wp-content/uploads/2023/08/BlaumBrothersDistiller.jpg
END:VEVENT
BEGIN:VEVENT
DTSTART;TZID=UTC:20230725T120000
DTEND;TZID=UTC:20230725T170000
DTSTAMP:20260424T003503
CREATED:20231012T001956Z
LAST-MODIFIED:20231011T192126Z
UID:3609-1690286400-1690304400@chesneyforillinois.com
SUMMARY:Senator Chesney Inaugural Golf Outing
DESCRIPTION:Food Truck by Rapped With Smoke \n11:00 am Registration\n12:00 Shotgun Start \nAwards & Appetizers After Golf
URL:https://chesneyforillinois.com/event/senator-chesney-inaugural-golf-outing/
LOCATION:The Freeport Club\, 1614 Park Blvd\, Freeport\, IL
ATTACH;FMTTYPE=image/png:https://chesneyforillinois.com/wp-content/uploads/2023/06/chesneyGolf2.png
END:VEVENT
BEGIN:VEVENT
DTSTART;TZID=UTC:20220917T120000
DTEND;TZID=UTC:20220917T150000
DTSTAMP:20260424T003503
CREATED:20231011T192223Z
LAST-MODIFIED:20231011T192223Z
UID:3611-1663416000-1663426800@chesneyforillinois.com
SUMMARY:Please Join Us For A Hog Roast
DESCRIPTION:Please Join Us in Supporting Rep. Andrew Chesney online donations can be made at: https://secure.winred.com/chesney-for-illinois-219e90b9/220917 \nSaturday\, September 17\n12 pm – 3 pm\nLogan’s\n1400 South Adams Ave • Freeport\, IL 61032\nTICKETS\n$30/Kids Free \nChesney for Illinois\nEffective Local Leadership–Positive State Wide Reform
URL:https://chesneyforillinois.com/event/please-join-us-for-a-hog-roast/
LOCATION:Illinois
ATTACH;FMTTYPE=image/png:https://chesneyforillinois.com/wp-content/uploads/2023/02/hogroast-300x191-1.png
END:VEVENT
BEGIN:VEVENT
DTSTART;TZID=UTC:20220609T170000
DTEND;TZID=UTC:20220609T190000
DTSTAMP:20260424T003503
CREATED:20231011T192256Z
LAST-MODIFIED:20231011T192256Z
UID:3612-1654794000-1654801200@chesneyforillinois.com
SUMMARY:Rep. Andrew Chesney Blaum Brothers Distilling Fundraiser – Galena
DESCRIPTION:Please join Rep. Andrew Chesney and support him as a candidate for Illinois State Senate at Blaum Brothers Distilling Co. in Galena for some great drinks and conversation. \nThe 2022 Election is just around the corner and the RED WAVE is coming! \nTicket Cost $50. $250\, $500 $1\,000 & $2\,500 \nSponsorships available.\nNeed Tickets? Please call Sara at 815-596-9160 or email her at sara@thenewberggroup.com. \nTHURSDAY\, JUNE 9\, 2022 AT 5 PM – 7 PM \nChesney for Illinois\nEffective Local Leadership–Positive State Wide Reform
URL:https://chesneyforillinois.com/event/rep-andrew-chesney-blaum-brothers-distilling-fundraiser-galena/
LOCATION:Illinois
ATTACH;FMTTYPE=image/png:https://chesneyforillinois.com/wp-content/uploads/2022/05/220609-ACHE-Blaum-Brothers.png
END:VEVENT
BEGIN:VEVENT
DTSTART;TZID=UTC:20220502T073000
DTEND;TZID=UTC:20220502T110000
DTSTAMP:20260424T003503
CREATED:20231011T192341Z
LAST-MODIFIED:20231011T192341Z
UID:3613-1651476600-1651489200@chesneyforillinois.com
SUMMARY:Legislative Breakfast with Andrew Chesney
DESCRIPTION:Monday\, May 2nd\n7:30 am Breakfast\n8:00 am Update\nLogan’s\n1805 S West Ave • Freeport\, IL 61032\nSPONSORSHIPS AVAILABLE\n$1\,000 • $500 • $250 • $100 \nChesney for Illinois\nEffective Local Leadership–Positive State Wide Reform
URL:https://chesneyforillinois.com/event/legislative-breakfast-with-andrew-chesney/
LOCATION:Illinois
ATTACH;FMTTYPE=image/png:https://chesneyforillinois.com/wp-content/uploads/2022/04/legreg.png
END:VEVENT
END:VCALENDAR